BEGIN:VCALENDAR
VERSION:2.0
PRODID:-//wp-events-plugin.com//7.2.3.1//EN
TZID:America/New_York
X-WR-TIMEZONE:America/New_York
BEGIN:VEVENT
UID:102@thegreenteam.org
DTSTART;TZID=America/New_York:20150511T110000
DTEND;TZID=America/New_York:20150511T123000
DTSTAMP:20150505T010428Z
URL:https://thegreenteam.org/es/events/environmental-education-awards-cere
 mony/
SUMMARY:Environmental Education Awards Ceremony
DESCRIPTION:The Executive Office of Energy and Environmental Affairs will 
 honor outstanding school programs across Massachusetts at the Environmenta
 l Education Awards Ceremony\, held from 11:00 a.m. - 12:30 p.m. in the Gre
 at Hall of the Massachusetts State House.
LOCATION:Massachusetts State House\, 24 Beacon Street\, Boston\, MA\, 01233
 \, Estados Unidos
GEO:42.3581549;-71.06377140000001
X-APPLE-STRUCTURED-LOCATION;VALUE=URI;X-ADDRESS=24 Beacon Street\, Boston\,
  MA\, 01233\, Estados Unidos;X-APPLE-RADIUS=100;X-TITLE=Massachusetts Stat
 e House:geo:42.3581549,-71.06377140000001
END:VEVENT
BEGIN:VTIMEZONE
TZID:America/New_York
X-LIC-LOCATION:America/New_York
BEGIN:DAYLIGHT
DTSTART:20150308T030000
TZOFFSETFROM:-0500
TZOFFSETTO:-0400
TZNAME:EDT
END:DAYLIGHT
END:VTIMEZONE
END:VCALENDAR